BEGIN:VCALENDAR
VERSION:2.0
PRODID:-//La Maison Du Grand Cerf - ECPv6.15.18//NONSGML v1.0//EN
CALSCALE:GREGORIAN
METHOD:PUBLISH
X-ORIGINAL-URL:http://www.lamaisondugrandcerf.fr
X-WR-CALDESC:Évènements pour La Maison Du Grand Cerf
REFRESH-INTERVAL;VALUE=DURATION:PT1H
X-Robots-Tag:noindex
X-PUBLISHED-TTL:PT1H
BEGIN:VTIMEZONE
TZID:Europe/Paris
BEGIN:DAYLIGHT
TZOFFSETFROM:+0100
TZOFFSETTO:+0200
TZNAME:CEST
DTSTART:20230326T010000
END:DAYLIGHT
BEGIN:STANDARD
TZOFFSETFROM:+0200
TZOFFSETTO:+0100
TZNAME:CET
DTSTART:20231029T010000
END:STANDARD
BEGIN:DAYLIGHT
TZOFFSETFROM:+0100
TZOFFSETTO:+0200
TZNAME:CEST
DTSTART:20240331T010000
END:DAYLIGHT
BEGIN:STANDARD
TZOFFSETFROM:+0200
TZOFFSETTO:+0100
TZNAME:CET
DTSTART:20241027T010000
END:STANDARD
BEGIN:DAYLIGHT
TZOFFSETFROM:+0100
TZOFFSETTO:+0200
TZNAME:CEST
DTSTART:20250330T010000
END:DAYLIGHT
BEGIN:STANDARD
TZOFFSETFROM:+0200
TZOFFSETTO:+0100
TZNAME:CET
DTSTART:20251026T010000
END:STANDARD
BEGIN:DAYLIGHT
TZOFFSETFROM:+0100
TZOFFSETTO:+0200
TZNAME:CEST
DTSTART:20260329T010000
END:DAYLIGHT
BEGIN:STANDARD
TZOFFSETFROM:+0200
TZOFFSETTO:+0100
TZNAME:CET
DTSTART:20261025T010000
END:STANDARD
END:VTIMEZONE
BEGIN:VEVENT
DTSTART;TZID=Europe/Paris:20250621T140000
DTEND;TZID=Europe/Paris:20250621T170000
DTSTAMP:20260424T131623
CREATED:20250617T141451Z
LAST-MODIFIED:20250617T141451Z
UID:4060-1750514400-1750525200@www.lamaisondugrandcerf.fr
SUMMARY:Braderie de la comtesse
DESCRIPTION:
URL:http://www.lamaisondugrandcerf.fr/evenements/braderie-de-la-comtesse/
LOCATION:Local MERCIS\, ronchin\, 59790
END:VEVENT
BEGIN:VEVENT
DTSTART;TZID=Europe/Paris:20250125T140000
DTEND;TZID=Europe/Paris:20250125T170000
DTSTAMP:20260424T131623
CREATED:20240702T095902Z
LAST-MODIFIED:20240702T124844Z
UID:3945-1737813600-1737824400@www.lamaisondugrandcerf.fr
SUMMARY:Repair café
DESCRIPTION:
URL:http://www.lamaisondugrandcerf.fr/evenements/repair-cafe-2/
ATTACH;FMTTYPE=image/png:http://www.lamaisondugrandcerf.fr/wp-content/uploads/2024/07/307482442_457878113035116_9132640328727672359_n.png
END:VEVENT
BEGIN:VEVENT
DTSTART;TZID=Europe/Paris:20250111T140000
DTEND;TZID=Europe/Paris:20250111T170000
DTSTAMP:20260424T131623
CREATED:20240702T095827Z
LAST-MODIFIED:20240702T095827Z
UID:3943-1736604000-1736614800@www.lamaisondugrandcerf.fr
SUMMARY:Les vœux
DESCRIPTION:
URL:http://www.lamaisondugrandcerf.fr/evenements/les-voeux/
END:VEVENT
BEGIN:VEVENT
DTSTART;TZID=Europe/Paris:20241219T140000
DTEND;TZID=Europe/Paris:20241219T183000
DTSTAMP:20260424T131623
CREATED:20240702T095752Z
LAST-MODIFIED:20240702T095752Z
UID:3941-1734616800-1734633000@www.lamaisondugrandcerf.fr
SUMMARY:Fête de fin d'année
DESCRIPTION:
URL:http://www.lamaisondugrandcerf.fr/evenements/fete-de-fin-dannee/
END:VEVENT
BEGIN:VEVENT
DTSTART;VALUE=DATE:20241116
DTEND;VALUE=DATE:20241117
DTSTAMP:20260424T131623
CREATED:20240702T095715Z
LAST-MODIFIED:20240702T095715Z
UID:3939-1731715200-1731801599@www.lamaisondugrandcerf.fr
SUMMARY:Fête du jeu
DESCRIPTION:
URL:http://www.lamaisondugrandcerf.fr/evenements/fete-du-jeu/
END:VEVENT
BEGIN:VEVENT
DTSTART;TZID=Europe/Paris:20241026T140000
DTEND;TZID=Europe/Paris:20241026T180000
DTSTAMP:20260424T131623
CREATED:20240702T095441Z
LAST-MODIFIED:20240702T124925Z
UID:3937-1729951200-1729965600@www.lamaisondugrandcerf.fr
SUMMARY:Repair Café
DESCRIPTION:
URL:http://www.lamaisondugrandcerf.fr/evenements/repair-cafe/
ATTACH;FMTTYPE=image/png:http://www.lamaisondugrandcerf.fr/wp-content/uploads/2024/07/307482442_457878113035116_9132640328727672359_n.png
END:VEVENT
BEGIN:VEVENT
DTSTART;VALUE=DATE:20241019
DTEND;VALUE=DATE:20241020
DTSTAMP:20260424T131623
CREATED:20240702T095408Z
LAST-MODIFIED:20240702T095408Z
UID:3935-1729296000-1729382399@www.lamaisondugrandcerf.fr
SUMMARY:Fête de la citrouille
DESCRIPTION:
URL:http://www.lamaisondugrandcerf.fr/evenements/fete-de-la-citrouille/
END:VEVENT
BEGIN:VEVENT
DTSTART;TZID=Europe/Paris:20241012T180000
DTEND;TZID=Europe/Paris:20241012T233000
DTSTAMP:20260424T131623
CREATED:20240702T095330Z
LAST-MODIFIED:20240702T095330Z
UID:3933-1728756000-1728775800@www.lamaisondugrandcerf.fr
SUMMARY:La bonne franquette
DESCRIPTION:
URL:http://www.lamaisondugrandcerf.fr/evenements/la-bonne-franquette/
END:VEVENT
BEGIN:VEVENT
DTSTART;VALUE=DATE:20240921
DTEND;VALUE=DATE:20240922
DTSTAMP:20260424T131623
CREATED:20240702T095226Z
LAST-MODIFIED:20240702T095226Z
UID:3931-1726876800-1726963199@www.lamaisondugrandcerf.fr
SUMMARY:Fête du Verger
DESCRIPTION:
URL:http://www.lamaisondugrandcerf.fr/evenements/fete-du-verger/
END:VEVENT
BEGIN:VEVENT
DTSTART;VALUE=DATE:20240908
DTEND;VALUE=DATE:20240909
DTSTAMP:20260424T131623
CREATED:20240702T095150Z
LAST-MODIFIED:20240702T095150Z
UID:3929-1725753600-1725839999@www.lamaisondugrandcerf.fr
SUMMARY:Braderie
DESCRIPTION:
URL:http://www.lamaisondugrandcerf.fr/evenements/braderie/
END:VEVENT
BEGIN:VEVENT
DTSTART;VALUE=DATE:20240907
DTEND;VALUE=DATE:20240908
DTSTAMP:20260424T131623
CREATED:20240702T094846Z
LAST-MODIFIED:20240702T094846Z
UID:3927-1725667200-1725753599@www.lamaisondugrandcerf.fr
SUMMARY:Forum des associations
DESCRIPTION:
URL:http://www.lamaisondugrandcerf.fr/evenements/forum-des-associations/
END:VEVENT
END:VCALENDAR